BEGIN:VCALENDAR
VERSION:2.0
PRODID:-//AudioTheme 3.0.2
BEGIN:VEVENT
UID:urn:uuid:0959b1e5-cb61-4634-bc1c-398af1752dbb
URL:https://www.jeanbaptistemonnot.com/shows/gig-1245/
DTSTART;VALUE=DATE:20170610
SUMMARY:Elandstraatkerk
LOCATION:Elandstraatkerk\, Elandstraat 194\, The Hague\, \, Netherlands
END:VEVENT
END:VCALENDAR
