BEGIN:VCALENDAR
VERSION:2.0
PRODID:-//AudioTheme 3.0.2
BEGIN:VEVENT
UID:urn:uuid:816a9fa0-76c5-4bd6-8297-8d209ff399c3
URL:https://www.jeanbaptistemonnot.com/shows/gig-1334/
DTSTART;TZID=GMT:20170403T184500
SUMMARY:Duomo di Padova (Padua Cathedral)
DESCRIPTION:20h45
LOCATION:Duomo di Padova (Padua Cathedral)\, Via Dietro Duomo\, 5\, Padova (Italy)\, \, Italy\, 35139
END:VEVENT
END:VCALENDAR
