BEGIN:VCALENDAR
VERSION:2.0
PRODID:-//AudioTheme 3.0.2
BEGIN:VEVENT
UID:urn:uuid:da109d2f-77ee-475d-b0d3-908ea62a6b22
URL:https://www.jeanbaptistemonnot.com/shows/gig-1412/
DTSTART;TZID=GMT:20170915T183000
SUMMARY:Église Saint-Martin de Saint-Valery-sur-Somme
DESCRIPTION:20h30  with Fabien Norbert\,  Solo Principal Trumpet of Les Siècles  
LOCATION:Église Saint-Martin de Saint-Valery-sur-Somme\, 16 Rue de la Porte de Nevers\, Saint-Valery-sur-Somme (France)\, \, France\, 80230
END:VEVENT
END:VCALENDAR
