BEGIN:VCALENDAR
VERSION:2.0
PRODID:-//AudioTheme 3.0.2
BEGIN:VEVENT
UID:urn:uuid:575a4539-fd76-4b50-957d-e11d754cffa0
URL:https://www.jeanbaptistemonnot.com/shows/gig-2065/
DTSTART;VALUE=DATE:20191010
SUMMARY:Stadtkirche Winterthur
DESCRIPTION:19h30
LOCATION:Stadtkirche Winterthur\, Kirchpl.\, Winterthur (Switzerland)\, \, Switzerland\, 8400
END:VEVENT
END:VCALENDAR
