BEGIN:VCALENDAR
VERSION:2.0
PRODID:-//AudioTheme 3.0.2
BEGIN:VEVENT
UID:urn:uuid:fcd9fb73-f77c-444a-9281-2dfa6b447085
URL:https://www.jeanbaptistemonnot.com/shows/gig-2335/
DTSTART;VALUE=DATE:20191006
SUMMARY:Théâtre de la cité - CDN Toulouse Occitanie
DESCRIPTION:10h    with l'Orgue du Voyage  Jean-Baptiste Monnot - Organist\, orgue  with Yuka Ishikawa (Japan)\, organ\, Fuki Fujie (Japan)\, violin / Louis-Noël Bestion de Camboulas\, organ\, Lucie Berthomier\, harp / Jean-Baptiste Dupont\, organ and Yves Rechsteiner\, organ
LOCATION:Théâtre de la cité - CDN Toulouse Occitanie\, 1 Rue Pierre Baudis\, Toulouse\, \, France\, 31000
END:VEVENT
END:VCALENDAR
