BEGIN:VCALENDAR
VERSION:2.0
PRODID:-//AudioTheme 3.0.2
BEGIN:VEVENT
UID:urn:uuid:c2f176d2-7814-487e-8fe4-e5c611a068f8
URL:https://www.jeanbaptistemonnot.com/shows/gig-5796/
DTSTART;VALUE=DATE:20210604
SUMMARY:Eglise Saint-Maclou
LOCATION:Eglise Saint-Maclou\, 7 Place Barthélémy\, Rouen\, \, France\, 76000
END:VEVENT
END:VCALENDAR
