BEGIN:VCALENDAR
VERSION:2.0
PRODID:-//AudioTheme 3.0.2
BEGIN:VEVENT
UID:urn:uuid:d585fea3-cd20-48ad-a122-f080a12352f6
URL:https://www.jeanbaptistemonnot.com/shows/gig-6531/
DTSTART;VALUE=DATE:20230604
SUMMARY:People's Salvation Cathedral, Bucharest
LOCATION:People's Salvation Cathedral\, Bucharest\, Bucharest\, \, Romania
END:VEVENT
END:VCALENDAR
