BEGIN:VCALENDAR
VERSION:2.0
PRODID:-//AudioTheme 3.0.2
BEGIN:VEVENT
UID:urn:uuid:f22e8a69-5cea-44f0-9e79-cecd40a2e0a8
URL:https://www.jeanbaptistemonnot.com/shows/gig-6572/
DTSTART;TZID=GMT:20230915T180000
SUMMARY:Mariendom Neviges, Velbert
DESCRIPTION:"Liberté Cathédrale"  Boris Charmatz\, Tanztheater Wuppertal Pina Bausch + [terrain]
LOCATION:Mariendom Neviges\, Velbert\, Elberfelder Str. 12\, Velbert\, \, Germany\, 42553
END:VEVENT
END:VCALENDAR
